BEGIN:VCALENDAR
VERSION:2.0
PRODID:-//Congregation Beth El - ECPv6.15.17//NONSGML v1.0//EN
CALSCALE:GREGORIAN
METHOD:PUBLISH
X-WR-CALNAME:Congregation Beth El
X-ORIGINAL-URL:https://bethelnorwalk.org
X-WR-CALDESC:Events for Congregation Beth El
REFRESH-INTERVAL;VALUE=DURATION:PT1H
X-Robots-Tag:noindex
X-PUBLISHED-TTL:PT1H
BEGIN:VTIMEZONE
TZID:America/New_York
BEGIN:DAYLIGHT
TZOFFSETFROM:-0500
TZOFFSETTO:-0400
TZNAME:EDT
DTSTART:20250309T070000
END:DAYLIGHT
BEGIN:STANDARD
TZOFFSETFROM:-0400
TZOFFSETTO:-0500
TZNAME:EST
DTSTART:20251102T060000
END:STANDARD
BEGIN:DAYLIGHT
TZOFFSETFROM:-0500
TZOFFSETTO:-0400
TZNAME:EDT
DTSTART:20260308T070000
END:DAYLIGHT
BEGIN:STANDARD
TZOFFSETFROM:-0400
TZOFFSETTO:-0500
TZNAME:EST
DTSTART:20261101T060000
END:STANDARD
BEGIN:DAYLIGHT
TZOFFSETFROM:-0500
TZOFFSETTO:-0400
TZNAME:EDT
DTSTART:20270314T070000
END:DAYLIGHT
BEGIN:STANDARD
TZOFFSETFROM:-0400
TZOFFSETTO:-0500
TZNAME:EST
DTSTART:20271107T060000
END:STANDARD
BEGIN:DAYLIGHT
TZOFFSETFROM:-0500
TZOFFSETTO:-0400
TZNAME:EDT
DTSTART:20280312T070000
END:DAYLIGHT
BEGIN:STANDARD
TZOFFSETFROM:-0400
TZOFFSETTO:-0500
TZNAME:EST
DTSTART:20281105T060000
END:STANDARD
END:VTIMEZONE
BEGIN:VEVENT
DTSTART;TZID=America/New_York:20260613T091500
DTEND;TZID=America/New_York:20260613T100000
DTSTAMP:20260420T103012
CREATED:20250820T174314Z
LAST-MODIFIED:20250820T175140Z
UID:10006112-1781342100-1781344800@bethelnorwalk.org
SUMMARY:Explore the Siddur
DESCRIPTION:Join Rabbi Paskind before services each month for a Siddur study session.
URL:https://bethelnorwalk.org/event/event-series-shabbat-learn-siddur-study/2026-06-13/
LOCATION:Beth El Norwalk\, 109 East Avenue\, Norwalk\, CT\, 06851\, United States
CATEGORIES:Adult Learning,Pray
ATTACH;FMTTYPE=image/jpeg:https://bethelnorwalk.org/wp-content/uploads/2023/10/Siddur.jpg
END:VEVENT
BEGIN:VEVENT
DTSTART;TZID=America/New_York:20260613T100000
DTEND;TZID=America/New_York:20260613T120000
DTSTAMP:20260420T103012
CREATED:20260225T181251Z
LAST-MODIFIED:20260225T181252Z
UID:10006288-1781344800-1781352000@bethelnorwalk.org
SUMMARY:Pre BMitzvah
DESCRIPTION:4th through pre-B/Mitzvah 8th grade students should plan to attend an in-person Shabbat service with Morah Rhonda Ginsberg at CBE\, Norwalk\, starting at 10am in the chapel. Students will become more familiar with our service\, practice their prayers\, and prepare for their Bar/Bat Mitzvah.  They will help lead the Torah service and other parts of the service\, as appropriate.\n\nThis year we are excited to add 4th graders to join the group. They will start to recognize the prayers they are learning in Kesher and follow the flow of the service.  Practice makes perfect!\nWe hope that our 7th and pre-B/Mitzvah 8th graders\, especially\, will attend more often to become familiar with the service prior to B/mitzvah.\nAs always\, parents are welcome to join us too and participate in the service.  Please plan to stay for kiddish lunch and socialize after services.\nPlease note the dates listed below in your calendar to avoid as much conflict as possible.  Note: If you are dropping off your child\, please remember your door code for pickup.\nDates for pre-B/Mitzvah services:\nJan 31\, Feb. 28\, March 21\, April 25\, May 9\, June 13
URL:https://bethelnorwalk.org/event/pre-bmitzvah-2-2/2026-06-13/
LOCATION:Congregation Beth El Norwalk\, 109 East Ave\, Norwalk\, CT\, 06851\, United States
ATTACH;FMTTYPE=image/jpeg:https://bethelnorwalk.org/wp-content/uploads/2025/10/Torah-open-scroll.jpg
END:VEVENT
BEGIN:VEVENT
DTSTART;TZID=America/New_York:20260613T103000
DTEND;TZID=America/New_York:20260613T120000
DTSTAMP:20260420T103012
CREATED:20260210T165131Z
LAST-MODIFIED:20260210T165352Z
UID:10006124-1781346600-1781352000@bethelnorwalk.org
SUMMARY:Tot Shabbat
DESCRIPTION:Tot Shabbat meets monthly on Saturday mornings and is open to children in preschool through first grade. The children learn about and celebrate Judaism\, Shabbat and the Jewish holidays throughout the year. Our monthly experiences include a special snack\, songs\, prayers\, and dancing. \nClick here for the flyer.
URL:https://bethelnorwalk.org/event/tot-shabbat-5786-2/2026-06-13/
LOCATION:Beth El Norwalk\, 109 East Avenue\, Norwalk\, CT\, 06851\, United States
CATEGORIES:Family,Pray,Tot Shabbat,Youth
ATTACH;FMTTYPE=image/png:https://bethelnorwalk.org/wp-content/uploads/2024/09/Tot-Shabbat-2025-2026.png
END:VEVENT
BEGIN:VEVENT
DTSTART;TZID=America/New_York:20260613T120000
DTEND;TZID=America/New_York:20260613T130000
DTSTAMP:20260420T103012
CREATED:20260311T143050Z
LAST-MODIFIED:20260311T143211Z
UID:10006353-1781352000-1781355600@bethelnorwalk.org
SUMMARY:Shabbat Singing Circle
DESCRIPTION:NEW! Shabbat Singing Circle! Following Tot Shabbat\, Shabbat Club\, and Pre BMitzvah\, stay for Kiddush and join our Shabbat Singing Circle! Let’s sing some Shabbat songs together! All are welcome! Click here for the flyer.
URL:https://bethelnorwalk.org/event/shabbat-singing-circle-2/2026-06-13/
LOCATION:Congregation Beth El Norwalk\, 109 East Ave\, Norwalk\, CT\, 06851\, United States
CATEGORIES:Shabbat
ATTACH;FMTTYPE=image/png:https://bethelnorwalk.org/wp-content/uploads/2025/11/Shabbat-Singing-Circle.png
END:VEVENT
BEGIN:VEVENT
DTSTART;TZID=America/New_York:20260618T093000
DTEND;TZID=America/New_York:20260618T103000
DTSTAMP:20260420T103012
CREATED:20250818T170017Z
LAST-MODIFIED:20251030T221129Z
UID:10005376-1781775000-1781778600@bethelnorwalk.org
SUMMARY:Free Baby & Me Program
DESCRIPTION:A free program every Thursday that is open to all faiths with music\, stories\, free play and more.  Meet other caregivers with young children (birth to 2 years old) and help your child to begin socializing with others. Contact Amy for more information. Nitzan@congbethel.org. The program runs October – May.
URL:https://bethelnorwalk.org/event/free-baby-me-program-2/2026-06-18/
LOCATION:Congregation Beth El Norwalk\, 109 East Ave\, Norwalk\, CT\, 06851\, United States
CATEGORIES:Family
ATTACH;FMTTYPE=image/jpeg:https://bethelnorwalk.org/wp-content/uploads/2024/11/Baby-and-me-Nov2018_0660.jpg
END:VEVENT
BEGIN:VEVENT
DTSTART;TZID=America/New_York:20260625T093000
DTEND;TZID=America/New_York:20260625T103000
DTSTAMP:20260420T103012
CREATED:20250818T170017Z
LAST-MODIFIED:20251030T221129Z
UID:10005377-1782379800-1782383400@bethelnorwalk.org
SUMMARY:Free Baby & Me Program
DESCRIPTION:A free program every Thursday that is open to all faiths with music\, stories\, free play and more.  Meet other caregivers with young children (birth to 2 years old) and help your child to begin socializing with others. Contact Amy for more information. Nitzan@congbethel.org. The program runs October – May.
URL:https://bethelnorwalk.org/event/free-baby-me-program-2/2026-06-25/
LOCATION:Congregation Beth El Norwalk\, 109 East Ave\, Norwalk\, CT\, 06851\, United States
CATEGORIES:Family
ATTACH;FMTTYPE=image/jpeg:https://bethelnorwalk.org/wp-content/uploads/2024/11/Baby-and-me-Nov2018_0660.jpg
END:VEVENT
BEGIN:VEVENT
DTSTART;TZID=America/New_York:20260705T124500
DTEND;TZID=America/New_York:20260705T144500
DTSTAMP:20260420T103012
CREATED:20251030T214711Z
LAST-MODIFIED:20251030T214711Z
UID:10006303-1783255500-1783262700@bethelnorwalk.org
SUMMARY:Schoke Kosher Food Pantry Truck at CBE
DESCRIPTION:CBE’s Social Action Committee has teamed up with the Schoke Kosher Food Pantry truck to offer its services monthly in the CBE parking lot.  Each month this truck serves the members of our community with food staples and needs. Volunteers are welcome.  Contact Sylvia Schulman for more information.
URL:https://bethelnorwalk.org/event/schoke-kosher-food-pantry-truck-at-cbe/2026-07-05/
LOCATION:Beth El Norwalk\, 109 East Avenue\, Norwalk\, CT\, 06851\, United States
CATEGORIES:Social Action
ATTACH;FMTTYPE=image/jpeg:https://bethelnorwalk.org/wp-content/uploads/2023/12/Schoke-Kosher-Food-Truck-2025.jpg
END:VEVENT
BEGIN:VEVENT
DTSTART;TZID=America/New_York:20260718T091500
DTEND;TZID=America/New_York:20260718T100000
DTSTAMP:20260420T103012
CREATED:20250820T174314Z
LAST-MODIFIED:20250820T175140Z
UID:10006113-1784366100-1784368800@bethelnorwalk.org
SUMMARY:Explore the Siddur
DESCRIPTION:Join Rabbi Paskind before services each month for a Siddur study session.
URL:https://bethelnorwalk.org/event/event-series-shabbat-learn-siddur-study/2026-07-18/
LOCATION:Beth El Norwalk\, 109 East Avenue\, Norwalk\, CT\, 06851\, United States
CATEGORIES:Adult Learning,Pray
ATTACH;FMTTYPE=image/jpeg:https://bethelnorwalk.org/wp-content/uploads/2023/10/Siddur.jpg
END:VEVENT
BEGIN:VEVENT
DTSTART;TZID=America/New_York:20260802T124500
DTEND;TZID=America/New_York:20260802T144500
DTSTAMP:20260420T103012
CREATED:20251030T214711Z
LAST-MODIFIED:20251030T214711Z
UID:10006304-1785674700-1785681900@bethelnorwalk.org
SUMMARY:Schoke Kosher Food Pantry Truck at CBE
DESCRIPTION:CBE’s Social Action Committee has teamed up with the Schoke Kosher Food Pantry truck to offer its services monthly in the CBE parking lot.  Each month this truck serves the members of our community with food staples and needs. Volunteers are welcome.  Contact Sylvia Schulman for more information.
URL:https://bethelnorwalk.org/event/schoke-kosher-food-pantry-truck-at-cbe/2026-08-02/
LOCATION:Beth El Norwalk\, 109 East Avenue\, Norwalk\, CT\, 06851\, United States
CATEGORIES:Social Action
ATTACH;FMTTYPE=image/jpeg:https://bethelnorwalk.org/wp-content/uploads/2023/12/Schoke-Kosher-Food-Truck-2025.jpg
END:VEVENT
BEGIN:VEVENT
DTSTART;TZID=America/New_York:20260815T091500
DTEND;TZID=America/New_York:20260815T100000
DTSTAMP:20260420T103012
CREATED:20250820T174314Z
LAST-MODIFIED:20250820T175140Z
UID:10006114-1786785300-1786788000@bethelnorwalk.org
SUMMARY:Explore the Siddur
DESCRIPTION:Join Rabbi Paskind before services each month for a Siddur study session.
URL:https://bethelnorwalk.org/event/event-series-shabbat-learn-siddur-study/2026-08-15/
LOCATION:Beth El Norwalk\, 109 East Avenue\, Norwalk\, CT\, 06851\, United States
CATEGORIES:Adult Learning,Pray
ATTACH;FMTTYPE=image/jpeg:https://bethelnorwalk.org/wp-content/uploads/2023/10/Siddur.jpg
END:VEVENT
BEGIN:VEVENT
DTSTART;TZID=America/New_York:20260906T124500
DTEND;TZID=America/New_York:20260906T144500
DTSTAMP:20260420T103012
CREATED:20251030T214711Z
LAST-MODIFIED:20251030T214711Z
UID:10006305-1788698700-1788705900@bethelnorwalk.org
SUMMARY:Schoke Kosher Food Pantry Truck at CBE
DESCRIPTION:CBE’s Social Action Committee has teamed up with the Schoke Kosher Food Pantry truck to offer its services monthly in the CBE parking lot.  Each month this truck serves the members of our community with food staples and needs. Volunteers are welcome.  Contact Sylvia Schulman for more information.
URL:https://bethelnorwalk.org/event/schoke-kosher-food-pantry-truck-at-cbe/2026-09-06/
LOCATION:Beth El Norwalk\, 109 East Avenue\, Norwalk\, CT\, 06851\, United States
CATEGORIES:Social Action
ATTACH;FMTTYPE=image/jpeg:https://bethelnorwalk.org/wp-content/uploads/2023/12/Schoke-Kosher-Food-Truck-2025.jpg
END:VEVENT
BEGIN:VEVENT
DTSTART;TZID=America/New_York:20261004T124500
DTEND;TZID=America/New_York:20261004T144500
DTSTAMP:20260420T103012
CREATED:20251030T214711Z
LAST-MODIFIED:20251030T214711Z
UID:10006306-1791117900-1791125100@bethelnorwalk.org
SUMMARY:Schoke Kosher Food Pantry Truck at CBE
DESCRIPTION:CBE’s Social Action Committee has teamed up with the Schoke Kosher Food Pantry truck to offer its services monthly in the CBE parking lot.  Each month this truck serves the members of our community with food staples and needs. Volunteers are welcome.  Contact Sylvia Schulman for more information.
URL:https://bethelnorwalk.org/event/schoke-kosher-food-pantry-truck-at-cbe/2026-10-04/
LOCATION:Beth El Norwalk\, 109 East Avenue\, Norwalk\, CT\, 06851\, United States
CATEGORIES:Social Action
ATTACH;FMTTYPE=image/jpeg:https://bethelnorwalk.org/wp-content/uploads/2023/12/Schoke-Kosher-Food-Truck-2025.jpg
END:VEVENT
BEGIN:VEVENT
DTSTART;TZID=America/New_York:20261029T093000
DTEND;TZID=America/New_York:20261029T103000
DTSTAMP:20260420T103012
CREATED:20250818T170017Z
LAST-MODIFIED:20251030T221129Z
UID:10005395-1793266200-1793269800@bethelnorwalk.org
SUMMARY:Free Baby & Me Program
DESCRIPTION:A free program every Thursday that is open to all faiths with music\, stories\, free play and more.  Meet other caregivers with young children (birth to 2 years old) and help your child to begin socializing with others. Contact Amy for more information. Nitzan@congbethel.org. The program runs October – May.
URL:https://bethelnorwalk.org/event/free-baby-me-program-2/2026-10-29/
LOCATION:Congregation Beth El Norwalk\, 109 East Ave\, Norwalk\, CT\, 06851\, United States
CATEGORIES:Family
ATTACH;FMTTYPE=image/jpeg:https://bethelnorwalk.org/wp-content/uploads/2024/11/Baby-and-me-Nov2018_0660.jpg
END:VEVENT
BEGIN:VEVENT
DTSTART;TZID=America/New_York:20261101T124500
DTEND;TZID=America/New_York:20261101T144500
DTSTAMP:20260420T103012
CREATED:20251030T214711Z
LAST-MODIFIED:20251030T214711Z
UID:10006307-1793537100-1793544300@bethelnorwalk.org
SUMMARY:Schoke Kosher Food Pantry Truck at CBE
DESCRIPTION:CBE’s Social Action Committee has teamed up with the Schoke Kosher Food Pantry truck to offer its services monthly in the CBE parking lot.  Each month this truck serves the members of our community with food staples and needs. Volunteers are welcome.  Contact Sylvia Schulman for more information.
URL:https://bethelnorwalk.org/event/schoke-kosher-food-pantry-truck-at-cbe/2026-11-01/
LOCATION:Beth El Norwalk\, 109 East Avenue\, Norwalk\, CT\, 06851\, United States
CATEGORIES:Social Action
ATTACH;FMTTYPE=image/jpeg:https://bethelnorwalk.org/wp-content/uploads/2023/12/Schoke-Kosher-Food-Truck-2025.jpg
END:VEVENT
BEGIN:VEVENT
DTSTART;TZID=America/New_York:20261105T093000
DTEND;TZID=America/New_York:20261105T103000
DTSTAMP:20260420T103012
CREATED:20250818T170017Z
LAST-MODIFIED:20251030T221129Z
UID:10005396-1793871000-1793874600@bethelnorwalk.org
SUMMARY:Free Baby & Me Program
DESCRIPTION:A free program every Thursday that is open to all faiths with music\, stories\, free play and more.  Meet other caregivers with young children (birth to 2 years old) and help your child to begin socializing with others. Contact Amy for more information. Nitzan@congbethel.org. The program runs October – May.
URL:https://bethelnorwalk.org/event/free-baby-me-program-2/2026-11-05/
LOCATION:Congregation Beth El Norwalk\, 109 East Ave\, Norwalk\, CT\, 06851\, United States
CATEGORIES:Family
ATTACH;FMTTYPE=image/jpeg:https://bethelnorwalk.org/wp-content/uploads/2024/11/Baby-and-me-Nov2018_0660.jpg
END:VEVENT
BEGIN:VEVENT
DTSTART;TZID=America/New_York:20261112T093000
DTEND;TZID=America/New_York:20261112T103000
DTSTAMP:20260420T103012
CREATED:20250818T170017Z
LAST-MODIFIED:20251030T221129Z
UID:10005397-1794475800-1794479400@bethelnorwalk.org
SUMMARY:Free Baby & Me Program
DESCRIPTION:A free program every Thursday that is open to all faiths with music\, stories\, free play and more.  Meet other caregivers with young children (birth to 2 years old) and help your child to begin socializing with others. Contact Amy for more information. Nitzan@congbethel.org. The program runs October – May.
URL:https://bethelnorwalk.org/event/free-baby-me-program-2/2026-11-12/
LOCATION:Congregation Beth El Norwalk\, 109 East Ave\, Norwalk\, CT\, 06851\, United States
CATEGORIES:Family
ATTACH;FMTTYPE=image/jpeg:https://bethelnorwalk.org/wp-content/uploads/2024/11/Baby-and-me-Nov2018_0660.jpg
END:VEVENT
BEGIN:VEVENT
DTSTART;TZID=America/New_York:20261119T093000
DTEND;TZID=America/New_York:20261119T103000
DTSTAMP:20260420T103012
CREATED:20250818T170017Z
LAST-MODIFIED:20251030T221129Z
UID:10005398-1795080600-1795084200@bethelnorwalk.org
SUMMARY:Free Baby & Me Program
DESCRIPTION:A free program every Thursday that is open to all faiths with music\, stories\, free play and more.  Meet other caregivers with young children (birth to 2 years old) and help your child to begin socializing with others. Contact Amy for more information. Nitzan@congbethel.org. The program runs October – May.
URL:https://bethelnorwalk.org/event/free-baby-me-program-2/2026-11-19/
LOCATION:Congregation Beth El Norwalk\, 109 East Ave\, Norwalk\, CT\, 06851\, United States
CATEGORIES:Family
ATTACH;FMTTYPE=image/jpeg:https://bethelnorwalk.org/wp-content/uploads/2024/11/Baby-and-me-Nov2018_0660.jpg
END:VEVENT
BEGIN:VEVENT
DTSTART;TZID=America/New_York:20261126T093000
DTEND;TZID=America/New_York:20261126T103000
DTSTAMP:20260420T103012
CREATED:20250818T170017Z
LAST-MODIFIED:20251030T221129Z
UID:10005399-1795685400-1795689000@bethelnorwalk.org
SUMMARY:Free Baby & Me Program
DESCRIPTION:A free program every Thursday that is open to all faiths with music\, stories\, free play and more.  Meet other caregivers with young children (birth to 2 years old) and help your child to begin socializing with others. Contact Amy for more information. Nitzan@congbethel.org. The program runs October – May.
URL:https://bethelnorwalk.org/event/free-baby-me-program-2/2026-11-26/
LOCATION:Congregation Beth El Norwalk\, 109 East Ave\, Norwalk\, CT\, 06851\, United States
CATEGORIES:Family
ATTACH;FMTTYPE=image/jpeg:https://bethelnorwalk.org/wp-content/uploads/2024/11/Baby-and-me-Nov2018_0660.jpg
END:VEVENT
BEGIN:VEVENT
DTSTART;TZID=America/New_York:20261203T093000
DTEND;TZID=America/New_York:20261203T103000
DTSTAMP:20260420T103012
CREATED:20250818T170017Z
LAST-MODIFIED:20251030T221129Z
UID:10005400-1796290200-1796293800@bethelnorwalk.org
SUMMARY:Free Baby & Me Program
DESCRIPTION:A free program every Thursday that is open to all faiths with music\, stories\, free play and more.  Meet other caregivers with young children (birth to 2 years old) and help your child to begin socializing with others. Contact Amy for more information. Nitzan@congbethel.org. The program runs October – May.
URL:https://bethelnorwalk.org/event/free-baby-me-program-2/2026-12-03/
LOCATION:Congregation Beth El Norwalk\, 109 East Ave\, Norwalk\, CT\, 06851\, United States
CATEGORIES:Family
ATTACH;FMTTYPE=image/jpeg:https://bethelnorwalk.org/wp-content/uploads/2024/11/Baby-and-me-Nov2018_0660.jpg
END:VEVENT
BEGIN:VEVENT
DTSTART;TZID=America/New_York:20261206T124500
DTEND;TZID=America/New_York:20261206T144500
DTSTAMP:20260420T103012
CREATED:20251030T214711Z
LAST-MODIFIED:20251030T214711Z
UID:10006308-1796561100-1796568300@bethelnorwalk.org
SUMMARY:Schoke Kosher Food Pantry Truck at CBE
DESCRIPTION:CBE’s Social Action Committee has teamed up with the Schoke Kosher Food Pantry truck to offer its services monthly in the CBE parking lot.  Each month this truck serves the members of our community with food staples and needs. Volunteers are welcome.  Contact Sylvia Schulman for more information.
URL:https://bethelnorwalk.org/event/schoke-kosher-food-pantry-truck-at-cbe/2026-12-06/
LOCATION:Beth El Norwalk\, 109 East Avenue\, Norwalk\, CT\, 06851\, United States
CATEGORIES:Social Action
ATTACH;FMTTYPE=image/jpeg:https://bethelnorwalk.org/wp-content/uploads/2023/12/Schoke-Kosher-Food-Truck-2025.jpg
END:VEVENT
BEGIN:VEVENT
DTSTART;TZID=America/New_York:20261210T093000
DTEND;TZID=America/New_York:20261210T103000
DTSTAMP:20260420T103012
CREATED:20250818T170017Z
LAST-MODIFIED:20251030T221129Z
UID:10005401-1796895000-1796898600@bethelnorwalk.org
SUMMARY:Free Baby & Me Program
DESCRIPTION:A free program every Thursday that is open to all faiths with music\, stories\, free play and more.  Meet other caregivers with young children (birth to 2 years old) and help your child to begin socializing with others. Contact Amy for more information. Nitzan@congbethel.org. The program runs October – May.
URL:https://bethelnorwalk.org/event/free-baby-me-program-2/2026-12-10/
LOCATION:Congregation Beth El Norwalk\, 109 East Ave\, Norwalk\, CT\, 06851\, United States
CATEGORIES:Family
ATTACH;FMTTYPE=image/jpeg:https://bethelnorwalk.org/wp-content/uploads/2024/11/Baby-and-me-Nov2018_0660.jpg
END:VEVENT
BEGIN:VEVENT
DTSTART;TZID=America/New_York:20261217T093000
DTEND;TZID=America/New_York:20261217T103000
DTSTAMP:20260420T103012
CREATED:20250818T170017Z
LAST-MODIFIED:20251030T221129Z
UID:10005402-1797499800-1797503400@bethelnorwalk.org
SUMMARY:Free Baby & Me Program
DESCRIPTION:A free program every Thursday that is open to all faiths with music\, stories\, free play and more.  Meet other caregivers with young children (birth to 2 years old) and help your child to begin socializing with others. Contact Amy for more information. Nitzan@congbethel.org. The program runs October – May.
URL:https://bethelnorwalk.org/event/free-baby-me-program-2/2026-12-17/
LOCATION:Congregation Beth El Norwalk\, 109 East Ave\, Norwalk\, CT\, 06851\, United States
CATEGORIES:Family
ATTACH;FMTTYPE=image/jpeg:https://bethelnorwalk.org/wp-content/uploads/2024/11/Baby-and-me-Nov2018_0660.jpg
END:VEVENT
BEGIN:VEVENT
DTSTART;TZID=America/New_York:20261224T093000
DTEND;TZID=America/New_York:20261224T103000
DTSTAMP:20260420T103012
CREATED:20250818T170017Z
LAST-MODIFIED:20251030T221129Z
UID:10005403-1798104600-1798108200@bethelnorwalk.org
SUMMARY:Free Baby & Me Program
DESCRIPTION:A free program every Thursday that is open to all faiths with music\, stories\, free play and more.  Meet other caregivers with young children (birth to 2 years old) and help your child to begin socializing with others. Contact Amy for more information. Nitzan@congbethel.org. The program runs October – May.
URL:https://bethelnorwalk.org/event/free-baby-me-program-2/2026-12-24/
LOCATION:Congregation Beth El Norwalk\, 109 East Ave\, Norwalk\, CT\, 06851\, United States
CATEGORIES:Family
ATTACH;FMTTYPE=image/jpeg:https://bethelnorwalk.org/wp-content/uploads/2024/11/Baby-and-me-Nov2018_0660.jpg
END:VEVENT
BEGIN:VEVENT
DTSTART;TZID=America/New_York:20261231T093000
DTEND;TZID=America/New_York:20261231T103000
DTSTAMP:20260420T103012
CREATED:20250818T170017Z
LAST-MODIFIED:20251030T221129Z
UID:10005404-1798709400-1798713000@bethelnorwalk.org
SUMMARY:Free Baby & Me Program
DESCRIPTION:A free program every Thursday that is open to all faiths with music\, stories\, free play and more.  Meet other caregivers with young children (birth to 2 years old) and help your child to begin socializing with others. Contact Amy for more information. Nitzan@congbethel.org. The program runs October – May.
URL:https://bethelnorwalk.org/event/free-baby-me-program-2/2026-12-31/
LOCATION:Congregation Beth El Norwalk\, 109 East Ave\, Norwalk\, CT\, 06851\, United States
CATEGORIES:Family
ATTACH;FMTTYPE=image/jpeg:https://bethelnorwalk.org/wp-content/uploads/2024/11/Baby-and-me-Nov2018_0660.jpg
END:VEVENT
BEGIN:VEVENT
DTSTART;TZID=America/New_York:20270107T093000
DTEND;TZID=America/New_York:20270107T103000
DTSTAMP:20260420T103012
CREATED:20250818T170017Z
LAST-MODIFIED:20251030T221129Z
UID:10005405-1799314200-1799317800@bethelnorwalk.org
SUMMARY:Free Baby & Me Program
DESCRIPTION:A free program every Thursday that is open to all faiths with music\, stories\, free play and more.  Meet other caregivers with young children (birth to 2 years old) and help your child to begin socializing with others. Contact Amy for more information. Nitzan@congbethel.org. The program runs October – May.
URL:https://bethelnorwalk.org/event/free-baby-me-program-2/2027-01-07/
LOCATION:Congregation Beth El Norwalk\, 109 East Ave\, Norwalk\, CT\, 06851\, United States
CATEGORIES:Family
ATTACH;FMTTYPE=image/jpeg:https://bethelnorwalk.org/wp-content/uploads/2024/11/Baby-and-me-Nov2018_0660.jpg
END:VEVENT
BEGIN:VEVENT
DTSTART;TZID=America/New_York:20270114T093000
DTEND;TZID=America/New_York:20270114T103000
DTSTAMP:20260420T103012
CREATED:20250818T170017Z
LAST-MODIFIED:20251030T221129Z
UID:10005406-1799919000-1799922600@bethelnorwalk.org
SUMMARY:Free Baby & Me Program
DESCRIPTION:A free program every Thursday that is open to all faiths with music\, stories\, free play and more.  Meet other caregivers with young children (birth to 2 years old) and help your child to begin socializing with others. Contact Amy for more information. Nitzan@congbethel.org. The program runs October – May.
URL:https://bethelnorwalk.org/event/free-baby-me-program-2/2027-01-14/
LOCATION:Congregation Beth El Norwalk\, 109 East Ave\, Norwalk\, CT\, 06851\, United States
CATEGORIES:Family
ATTACH;FMTTYPE=image/jpeg:https://bethelnorwalk.org/wp-content/uploads/2024/11/Baby-and-me-Nov2018_0660.jpg
END:VEVENT
BEGIN:VEVENT
DTSTART;TZID=America/New_York:20270121T093000
DTEND;TZID=America/New_York:20270121T103000
DTSTAMP:20260420T103012
CREATED:20250818T170017Z
LAST-MODIFIED:20251030T221129Z
UID:10005407-1800523800-1800527400@bethelnorwalk.org
SUMMARY:Free Baby & Me Program
DESCRIPTION:A free program every Thursday that is open to all faiths with music\, stories\, free play and more.  Meet other caregivers with young children (birth to 2 years old) and help your child to begin socializing with others. Contact Amy for more information. Nitzan@congbethel.org. The program runs October – May.
URL:https://bethelnorwalk.org/event/free-baby-me-program-2/2027-01-21/
LOCATION:Congregation Beth El Norwalk\, 109 East Ave\, Norwalk\, CT\, 06851\, United States
CATEGORIES:Family
ATTACH;FMTTYPE=image/jpeg:https://bethelnorwalk.org/wp-content/uploads/2024/11/Baby-and-me-Nov2018_0660.jpg
END:VEVENT
BEGIN:VEVENT
DTSTART;TZID=America/New_York:20270128T093000
DTEND;TZID=America/New_York:20270128T103000
DTSTAMP:20260420T103012
CREATED:20250818T170017Z
LAST-MODIFIED:20251030T221129Z
UID:10005408-1801128600-1801132200@bethelnorwalk.org
SUMMARY:Free Baby & Me Program
DESCRIPTION:A free program every Thursday that is open to all faiths with music\, stories\, free play and more.  Meet other caregivers with young children (birth to 2 years old) and help your child to begin socializing with others. Contact Amy for more information. Nitzan@congbethel.org. The program runs October – May.
URL:https://bethelnorwalk.org/event/free-baby-me-program-2/2027-01-28/
LOCATION:Congregation Beth El Norwalk\, 109 East Ave\, Norwalk\, CT\, 06851\, United States
CATEGORIES:Family
ATTACH;FMTTYPE=image/jpeg:https://bethelnorwalk.org/wp-content/uploads/2024/11/Baby-and-me-Nov2018_0660.jpg
END:VEVENT
BEGIN:VEVENT
DTSTART;TZID=America/New_York:20270204T093000
DTEND;TZID=America/New_York:20270204T103000
DTSTAMP:20260420T103012
CREATED:20250818T170017Z
LAST-MODIFIED:20251030T221129Z
UID:10005409-1801733400-1801737000@bethelnorwalk.org
SUMMARY:Free Baby & Me Program
DESCRIPTION:A free program every Thursday that is open to all faiths with music\, stories\, free play and more.  Meet other caregivers with young children (birth to 2 years old) and help your child to begin socializing with others. Contact Amy for more information. Nitzan@congbethel.org. The program runs October – May.
URL:https://bethelnorwalk.org/event/free-baby-me-program-2/2027-02-04/
LOCATION:Congregation Beth El Norwalk\, 109 East Ave\, Norwalk\, CT\, 06851\, United States
CATEGORIES:Family
ATTACH;FMTTYPE=image/jpeg:https://bethelnorwalk.org/wp-content/uploads/2024/11/Baby-and-me-Nov2018_0660.jpg
END:VEVENT
BEGIN:VEVENT
DTSTART;TZID=America/New_York:20270211T093000
DTEND;TZID=America/New_York:20270211T103000
DTSTAMP:20260420T103012
CREATED:20250818T170017Z
LAST-MODIFIED:20251030T221129Z
UID:10005410-1802338200-1802341800@bethelnorwalk.org
SUMMARY:Free Baby & Me Program
DESCRIPTION:A free program every Thursday that is open to all faiths with music\, stories\, free play and more.  Meet other caregivers with young children (birth to 2 years old) and help your child to begin socializing with others. Contact Amy for more information. Nitzan@congbethel.org. The program runs October – May.
URL:https://bethelnorwalk.org/event/free-baby-me-program-2/2027-02-11/
LOCATION:Congregation Beth El Norwalk\, 109 East Ave\, Norwalk\, CT\, 06851\, United States
CATEGORIES:Family
ATTACH;FMTTYPE=image/jpeg:https://bethelnorwalk.org/wp-content/uploads/2024/11/Baby-and-me-Nov2018_0660.jpg
END:VEVENT
END:VCALENDAR