BEGIN:VCALENDAR
VERSION:2.0
PRODID:-//Congregation Beth El - ECPv6.15.17//NONSGML v1.0//EN
CALSCALE:GREGORIAN
METHOD:PUBLISH
X-ORIGINAL-URL:https://bethelnorwalk.org
X-WR-CALDESC:Events for Congregation Beth El
REFRESH-INTERVAL;VALUE=DURATION:PT1H
X-Robots-Tag:noindex
X-PUBLISHED-TTL:PT1H
BEGIN:VTIMEZONE
TZID:America/New_York
BEGIN:DAYLIGHT
TZOFFSETFROM:-0500
TZOFFSETTO:-0400
TZNAME:EDT
DTSTART:20240310T070000
END:DAYLIGHT
BEGIN:STANDARD
TZOFFSETFROM:-0400
TZOFFSETTO:-0500
TZNAME:EST
DTSTART:20241103T060000
END:STANDARD
BEGIN:DAYLIGHT
TZOFFSETFROM:-0500
TZOFFSETTO:-0400
TZNAME:EDT
DTSTART:20250309T070000
END:DAYLIGHT
BEGIN:STANDARD
TZOFFSETFROM:-0400
TZOFFSETTO:-0500
TZNAME:EST
DTSTART:20251102T060000
END:STANDARD
BEGIN:DAYLIGHT
TZOFFSETFROM:-0500
TZOFFSETTO:-0400
TZNAME:EDT
DTSTART:20260308T070000
END:DAYLIGHT
BEGIN:STANDARD
TZOFFSETFROM:-0400
TZOFFSETTO:-0500
TZNAME:EST
DTSTART:20261101T060000
END:STANDARD
END:VTIMEZONE
BEGIN:VEVENT
DTSTART;TZID=America/New_York:20251108T103000
DTEND;TZID=America/New_York:20251108T120000
DTSTAMP:20260422T090535
CREATED:20250820T184328Z
LAST-MODIFIED:20251119T185732Z
UID:10006117-1762597800-1762603200@bethelnorwalk.org
SUMMARY:Tot Shabbat
DESCRIPTION:Tot Shabbat returns for another fun year at Congregation Beth El! We meet monthly on Saturday mornings and help our youngest friends learn about and celebrate Judaism\, Shabbat and the Jewish holidays throughout the year. Our monthly experiences include a special snack\, songs\, prayers\, and dancing. Tot Shabbat is open to children through 3rd grade. \nDecember 13\, January 31\, February 28\, March 21\, April 25\, May 16\, June 13
URL:https://bethelnorwalk.org/event/tot-shabbat-is-back-2/2025-11-08/
LOCATION:Congregation Beth El Norwalk\, 109 East Ave\, Norwalk\, CT\, 06851\, United States
CATEGORIES:Family,Tot Shabbat
ATTACH;FMTTYPE=image/png:https://bethelnorwalk.org/wp-content/uploads/2024/09/Tot-Shabbat-2025-2026.png
END:VEVENT
BEGIN:VEVENT
DTSTART;TZID=America/New_York:20251113T193000
DTEND;TZID=America/New_York:20251113T193000
DTSTAMP:20260422T090535
CREATED:20251111T192351Z
LAST-MODIFIED:20251111T192502Z
UID:10006293-1763062200-1763062200@bethelnorwalk.org
SUMMARY:Meeting cancelled on November 13. Next Meeting is December 4.
DESCRIPTION:The Social Action Committee meets the first Thursday of every month via Zoom. (except when there is a conflict with a holiday or event) Zoom link.
URL:https://bethelnorwalk.org/event/social-action-committee-meeting-2/
LOCATION:CT
CATEGORIES:Social Action
ATTACH;FMTTYPE=image/jpeg:https://bethelnorwalk.org/wp-content/uploads/2023/07/SocialActionOct2022NorwalkLandTrust.jpg
END:VEVENT
BEGIN:VEVENT
DTSTART;TZID=America/New_York:20251114T180000
DTEND;TZID=America/New_York:20251114T200000
DTSTAMP:20260422T090535
CREATED:20251001T134317Z
LAST-MODIFIED:20260120T204533Z
UID:10006051-1763143200-1763150400@bethelnorwalk.org
SUMMARY:Home Cooked Shabbat
DESCRIPTION:CBE has a series of Shabbat programming called “Home Cooked Shabbat” where once a month\, congregants will host people in their home for Shabbat dinner! The address will be sent to those registered. \nEmail David Goldstein at David@congbethel.org with any questions. \nClick here for all the details and to register. \n 
URL:https://bethelnorwalk.org/event/home-cooked-shabbat-2/2025-11-14/
LOCATION:CT
ATTACH;FMTTYPE=image/jpeg:https://bethelnorwalk.org/wp-content/uploads/2025/08/Shabbat-meals.jpg
END:VEVENT
END:VCALENDAR