BEGIN:VCALENDAR
VERSION:2.0
PRODID:-//Congregation Beth El - ECPv6.15.17//NONSGML v1.0//EN
CALSCALE:GREGORIAN
METHOD:PUBLISH
X-ORIGINAL-URL:https://bethelnorwalk.org
X-WR-CALDESC:Events for Congregation Beth El
REFRESH-INTERVAL;VALUE=DURATION:PT1H
X-Robots-Tag:noindex
X-PUBLISHED-TTL:PT1H
BEGIN:VTIMEZONE
TZID:America/New_York
BEGIN:DAYLIGHT
TZOFFSETFROM:-0500
TZOFFSETTO:-0400
TZNAME:EDT
DTSTART:20250309T070000
END:DAYLIGHT
BEGIN:STANDARD
TZOFFSETFROM:-0400
TZOFFSETTO:-0500
TZNAME:EST
DTSTART:20251102T060000
END:STANDARD
BEGIN:DAYLIGHT
TZOFFSETFROM:-0500
TZOFFSETTO:-0400
TZNAME:EDT
DTSTART:20260308T070000
END:DAYLIGHT
BEGIN:STANDARD
TZOFFSETFROM:-0400
TZOFFSETTO:-0500
TZNAME:EST
DTSTART:20261101T060000
END:STANDARD
BEGIN:DAYLIGHT
TZOFFSETFROM:-0500
TZOFFSETTO:-0400
TZNAME:EDT
DTSTART:20270314T070000
END:DAYLIGHT
BEGIN:STANDARD
TZOFFSETFROM:-0400
TZOFFSETTO:-0500
TZNAME:EST
DTSTART:20271107T060000
END:STANDARD
END:VTIMEZONE
BEGIN:VEVENT
DTSTART;TZID=America/New_York:20260314T120000
DTEND;TZID=America/New_York:20260314T130000
DTSTAMP:20260421T122915
CREATED:20260311T143050Z
LAST-MODIFIED:20260311T143211Z
UID:10006350-1773489600-1773493200@bethelnorwalk.org
SUMMARY:Shabbat Singing Circle
DESCRIPTION:NEW! Shabbat Singing Circle! Following Tot Shabbat\, Shabbat Club\, and Pre BMitzvah\, stay for Kiddush and join our Shabbat Singing Circle! Let’s sing some Shabbat songs together! All are welcome! Click here for the flyer.
URL:https://bethelnorwalk.org/event/shabbat-singing-circle-2/2026-03-14/
LOCATION:Congregation Beth El Norwalk\, 109 East Ave\, Norwalk\, CT\, 06851\, United States
CATEGORIES:Shabbat
ATTACH;FMTTYPE=image/png:https://bethelnorwalk.org/wp-content/uploads/2025/11/Shabbat-Singing-Circle.png
END:VEVENT
END:VCALENDAR