BEGIN:VCALENDAR
VERSION:2.0
PRODID:-//Congregation Beth El - ECPv6.15.17//NONSGML v1.0//EN
CALSCALE:GREGORIAN
METHOD:PUBLISH
X-ORIGINAL-URL:https://bethelnorwalk.org
X-WR-CALDESC:Events for Congregation Beth El
REFRESH-INTERVAL;VALUE=DURATION:PT1H
X-Robots-Tag:noindex
X-PUBLISHED-TTL:PT1H
BEGIN:VTIMEZONE
TZID:America/New_York
BEGIN:DAYLIGHT
TZOFFSETFROM:-0500
TZOFFSETTO:-0400
TZNAME:EDT
DTSTART:20250309T070000
END:DAYLIGHT
BEGIN:STANDARD
TZOFFSETFROM:-0400
TZOFFSETTO:-0500
TZNAME:EST
DTSTART:20251102T060000
END:STANDARD
BEGIN:DAYLIGHT
TZOFFSETFROM:-0500
TZOFFSETTO:-0400
TZNAME:EDT
DTSTART:20260308T070000
END:DAYLIGHT
BEGIN:STANDARD
TZOFFSETFROM:-0400
TZOFFSETTO:-0500
TZNAME:EST
DTSTART:20261101T060000
END:STANDARD
BEGIN:DAYLIGHT
TZOFFSETFROM:-0500
TZOFFSETTO:-0400
TZNAME:EDT
DTSTART:20270314T070000
END:DAYLIGHT
BEGIN:STANDARD
TZOFFSETFROM:-0400
TZOFFSETTO:-0500
TZNAME:EST
DTSTART:20271107T060000
END:STANDARD
BEGIN:DAYLIGHT
TZOFFSETFROM:-0500
TZOFFSETTO:-0400
TZNAME:EDT
DTSTART:20280312T070000
END:DAYLIGHT
BEGIN:STANDARD
TZOFFSETFROM:-0400
TZOFFSETTO:-0500
TZNAME:EST
DTSTART:20281105T060000
END:STANDARD
END:VTIMEZONE
BEGIN:VEVENT
DTSTART;TZID=America/New_York:20261127T180000
DTEND;TZID=America/New_York:20261127T191500
DTSTAMP:20260422T224016
CREATED:20240202T140648Z
LAST-MODIFIED:20240923T183952Z
UID:10002596-1795802400-1795806900@bethelnorwalk.org
SUMMARY:Kabbalat Shabbat
DESCRIPTION:Join us every Friday evening in person or via Zoom at 6 pm for an uplifting\, spiritual end to your week. We incorporate music to make the service even more inspiring. (Please note\, the time & Zoom option are subject to change for special events.) \n 
URL:https://bethelnorwalk.org/event/kabbalat-shabbat/2026-11-27/
LOCATION:CT
CATEGORIES:Pray
ATTACH;FMTTYPE=image/jpeg:https://bethelnorwalk.org/wp-content/uploads/2024/02/Kabbalat-Shabbat.jpg
END:VEVENT
BEGIN:VEVENT
DTSTART;TZID=America/New_York:20261128T100000
DTEND;TZID=America/New_York:20261128T100000
DTSTAMP:20260422T224016
CREATED:20240202T143534Z
LAST-MODIFIED:20240626T193917Z
UID:10002858-1795860000-1795860000@bethelnorwalk.org
SUMMARY:Shabbat Services
DESCRIPTION:Weekly Shabbat services begin at 10:00 am (9:30 am when there is a B Mitzvah) in person and via our livestream feed.  Our services combine traditional and contemporary prayers. Rabbi Ita Paskind’s D’var Torah offers thought provoking and inspirational words.  We often spotlight guests and congregants to be our guest D’var Torah assuring different perspectives on Torah and “hot topics.”
URL:https://bethelnorwalk.org/event/shabbat-services/2026-11-28/
LOCATION:CT
CATEGORIES:Pray
ATTACH;FMTTYPE=image/jpeg:https://bethelnorwalk.org/wp-content/uploads/2024/02/shabbat-shalom-blue.jpg
END:VEVENT
BEGIN:VEVENT
DTSTART;TZID=America/New_York:20261204T180000
DTEND;TZID=America/New_York:20261204T191500
DTSTAMP:20260422T224016
CREATED:20240202T140648Z
LAST-MODIFIED:20240923T183952Z
UID:10002597-1796407200-1796411700@bethelnorwalk.org
SUMMARY:Kabbalat Shabbat
DESCRIPTION:Join us every Friday evening in person or via Zoom at 6 pm for an uplifting\, spiritual end to your week. We incorporate music to make the service even more inspiring. (Please note\, the time & Zoom option are subject to change for special events.) \n 
URL:https://bethelnorwalk.org/event/kabbalat-shabbat/2026-12-04/
LOCATION:CT
CATEGORIES:Pray
ATTACH;FMTTYPE=image/jpeg:https://bethelnorwalk.org/wp-content/uploads/2024/02/Kabbalat-Shabbat.jpg
END:VEVENT
BEGIN:VEVENT
DTSTART;TZID=America/New_York:20261205T100000
DTEND;TZID=America/New_York:20261205T100000
DTSTAMP:20260422T224016
CREATED:20240202T143534Z
LAST-MODIFIED:20240626T193917Z
UID:10002859-1796464800-1796464800@bethelnorwalk.org
SUMMARY:Shabbat Services
DESCRIPTION:Weekly Shabbat services begin at 10:00 am (9:30 am when there is a B Mitzvah) in person and via our livestream feed.  Our services combine traditional and contemporary prayers. Rabbi Ita Paskind’s D’var Torah offers thought provoking and inspirational words.  We often spotlight guests and congregants to be our guest D’var Torah assuring different perspectives on Torah and “hot topics.”
URL:https://bethelnorwalk.org/event/shabbat-services/2026-12-05/
LOCATION:CT
CATEGORIES:Pray
ATTACH;FMTTYPE=image/jpeg:https://bethelnorwalk.org/wp-content/uploads/2024/02/shabbat-shalom-blue.jpg
END:VEVENT
BEGIN:VEVENT
DTSTART;TZID=America/New_York:20261211T180000
DTEND;TZID=America/New_York:20261211T191500
DTSTAMP:20260422T224016
CREATED:20240202T140648Z
LAST-MODIFIED:20240923T183952Z
UID:10002598-1797012000-1797016500@bethelnorwalk.org
SUMMARY:Kabbalat Shabbat
DESCRIPTION:Join us every Friday evening in person or via Zoom at 6 pm for an uplifting\, spiritual end to your week. We incorporate music to make the service even more inspiring. (Please note\, the time & Zoom option are subject to change for special events.) \n 
URL:https://bethelnorwalk.org/event/kabbalat-shabbat/2026-12-11/
LOCATION:CT
CATEGORIES:Pray
ATTACH;FMTTYPE=image/jpeg:https://bethelnorwalk.org/wp-content/uploads/2024/02/Kabbalat-Shabbat.jpg
END:VEVENT
BEGIN:VEVENT
DTSTART;TZID=America/New_York:20261212T100000
DTEND;TZID=America/New_York:20261212T100000
DTSTAMP:20260422T224016
CREATED:20240202T143534Z
LAST-MODIFIED:20240626T193917Z
UID:10002860-1797069600-1797069600@bethelnorwalk.org
SUMMARY:Shabbat Services
DESCRIPTION:Weekly Shabbat services begin at 10:00 am (9:30 am when there is a B Mitzvah) in person and via our livestream feed.  Our services combine traditional and contemporary prayers. Rabbi Ita Paskind’s D’var Torah offers thought provoking and inspirational words.  We often spotlight guests and congregants to be our guest D’var Torah assuring different perspectives on Torah and “hot topics.”
URL:https://bethelnorwalk.org/event/shabbat-services/2026-12-12/
LOCATION:CT
CATEGORIES:Pray
ATTACH;FMTTYPE=image/jpeg:https://bethelnorwalk.org/wp-content/uploads/2024/02/shabbat-shalom-blue.jpg
END:VEVENT
BEGIN:VEVENT
DTSTART;TZID=America/New_York:20261218T180000
DTEND;TZID=America/New_York:20261218T191500
DTSTAMP:20260422T224016
CREATED:20240202T140648Z
LAST-MODIFIED:20240923T183952Z
UID:10002599-1797616800-1797621300@bethelnorwalk.org
SUMMARY:Kabbalat Shabbat
DESCRIPTION:Join us every Friday evening in person or via Zoom at 6 pm for an uplifting\, spiritual end to your week. We incorporate music to make the service even more inspiring. (Please note\, the time & Zoom option are subject to change for special events.) \n 
URL:https://bethelnorwalk.org/event/kabbalat-shabbat/2026-12-18/
LOCATION:CT
CATEGORIES:Pray
ATTACH;FMTTYPE=image/jpeg:https://bethelnorwalk.org/wp-content/uploads/2024/02/Kabbalat-Shabbat.jpg
END:VEVENT
BEGIN:VEVENT
DTSTART;TZID=America/New_York:20261219T100000
DTEND;TZID=America/New_York:20261219T100000
DTSTAMP:20260422T224016
CREATED:20240202T143534Z
LAST-MODIFIED:20240626T193917Z
UID:10002861-1797674400-1797674400@bethelnorwalk.org
SUMMARY:Shabbat Services
DESCRIPTION:Weekly Shabbat services begin at 10:00 am (9:30 am when there is a B Mitzvah) in person and via our livestream feed.  Our services combine traditional and contemporary prayers. Rabbi Ita Paskind’s D’var Torah offers thought provoking and inspirational words.  We often spotlight guests and congregants to be our guest D’var Torah assuring different perspectives on Torah and “hot topics.”
URL:https://bethelnorwalk.org/event/shabbat-services/2026-12-19/
LOCATION:CT
CATEGORIES:Pray
ATTACH;FMTTYPE=image/jpeg:https://bethelnorwalk.org/wp-content/uploads/2024/02/shabbat-shalom-blue.jpg
END:VEVENT
BEGIN:VEVENT
DTSTART;TZID=America/New_York:20261225T180000
DTEND;TZID=America/New_York:20261225T191500
DTSTAMP:20260422T224016
CREATED:20240202T140648Z
LAST-MODIFIED:20240923T183952Z
UID:10002600-1798221600-1798226100@bethelnorwalk.org
SUMMARY:Kabbalat Shabbat
DESCRIPTION:Join us every Friday evening in person or via Zoom at 6 pm for an uplifting\, spiritual end to your week. We incorporate music to make the service even more inspiring. (Please note\, the time & Zoom option are subject to change for special events.) \n 
URL:https://bethelnorwalk.org/event/kabbalat-shabbat/2026-12-25/
LOCATION:CT
CATEGORIES:Pray
ATTACH;FMTTYPE=image/jpeg:https://bethelnorwalk.org/wp-content/uploads/2024/02/Kabbalat-Shabbat.jpg
END:VEVENT
BEGIN:VEVENT
DTSTART;TZID=America/New_York:20261226T100000
DTEND;TZID=America/New_York:20261226T100000
DTSTAMP:20260422T224016
CREATED:20240202T143534Z
LAST-MODIFIED:20240626T193917Z
UID:10002862-1798279200-1798279200@bethelnorwalk.org
SUMMARY:Shabbat Services
DESCRIPTION:Weekly Shabbat services begin at 10:00 am (9:30 am when there is a B Mitzvah) in person and via our livestream feed.  Our services combine traditional and contemporary prayers. Rabbi Ita Paskind’s D’var Torah offers thought provoking and inspirational words.  We often spotlight guests and congregants to be our guest D’var Torah assuring different perspectives on Torah and “hot topics.”
URL:https://bethelnorwalk.org/event/shabbat-services/2026-12-26/
LOCATION:CT
CATEGORIES:Pray
ATTACH;FMTTYPE=image/jpeg:https://bethelnorwalk.org/wp-content/uploads/2024/02/shabbat-shalom-blue.jpg
END:VEVENT
BEGIN:VEVENT
DTSTART;TZID=America/New_York:20270101T180000
DTEND;TZID=America/New_York:20270101T191500
DTSTAMP:20260422T224016
CREATED:20240202T140648Z
LAST-MODIFIED:20240923T183952Z
UID:10002601-1798826400-1798830900@bethelnorwalk.org
SUMMARY:Kabbalat Shabbat
DESCRIPTION:Join us every Friday evening in person or via Zoom at 6 pm for an uplifting\, spiritual end to your week. We incorporate music to make the service even more inspiring. (Please note\, the time & Zoom option are subject to change for special events.) \n 
URL:https://bethelnorwalk.org/event/kabbalat-shabbat/2027-01-01/
LOCATION:CT
CATEGORIES:Pray
ATTACH;FMTTYPE=image/jpeg:https://bethelnorwalk.org/wp-content/uploads/2024/02/Kabbalat-Shabbat.jpg
END:VEVENT
BEGIN:VEVENT
DTSTART;TZID=America/New_York:20270102T100000
DTEND;TZID=America/New_York:20270102T100000
DTSTAMP:20260422T224016
CREATED:20240202T143534Z
LAST-MODIFIED:20240626T193917Z
UID:10002863-1798884000-1798884000@bethelnorwalk.org
SUMMARY:Shabbat Services
DESCRIPTION:Weekly Shabbat services begin at 10:00 am (9:30 am when there is a B Mitzvah) in person and via our livestream feed.  Our services combine traditional and contemporary prayers. Rabbi Ita Paskind’s D’var Torah offers thought provoking and inspirational words.  We often spotlight guests and congregants to be our guest D’var Torah assuring different perspectives on Torah and “hot topics.”
URL:https://bethelnorwalk.org/event/shabbat-services/2027-01-02/
LOCATION:CT
CATEGORIES:Pray
ATTACH;FMTTYPE=image/jpeg:https://bethelnorwalk.org/wp-content/uploads/2024/02/shabbat-shalom-blue.jpg
END:VEVENT
BEGIN:VEVENT
DTSTART;TZID=America/New_York:20270108T180000
DTEND;TZID=America/New_York:20270108T191500
DTSTAMP:20260422T224016
CREATED:20240202T140648Z
LAST-MODIFIED:20240923T183952Z
UID:10002602-1799431200-1799435700@bethelnorwalk.org
SUMMARY:Kabbalat Shabbat
DESCRIPTION:Join us every Friday evening in person or via Zoom at 6 pm for an uplifting\, spiritual end to your week. We incorporate music to make the service even more inspiring. (Please note\, the time & Zoom option are subject to change for special events.) \n 
URL:https://bethelnorwalk.org/event/kabbalat-shabbat/2027-01-08/
LOCATION:CT
CATEGORIES:Pray
ATTACH;FMTTYPE=image/jpeg:https://bethelnorwalk.org/wp-content/uploads/2024/02/Kabbalat-Shabbat.jpg
END:VEVENT
BEGIN:VEVENT
DTSTART;TZID=America/New_York:20270109T100000
DTEND;TZID=America/New_York:20270109T100000
DTSTAMP:20260422T224016
CREATED:20240202T143534Z
LAST-MODIFIED:20240626T193917Z
UID:10002864-1799488800-1799488800@bethelnorwalk.org
SUMMARY:Shabbat Services
DESCRIPTION:Weekly Shabbat services begin at 10:00 am (9:30 am when there is a B Mitzvah) in person and via our livestream feed.  Our services combine traditional and contemporary prayers. Rabbi Ita Paskind’s D’var Torah offers thought provoking and inspirational words.  We often spotlight guests and congregants to be our guest D’var Torah assuring different perspectives on Torah and “hot topics.”
URL:https://bethelnorwalk.org/event/shabbat-services/2027-01-09/
LOCATION:CT
CATEGORIES:Pray
ATTACH;FMTTYPE=image/jpeg:https://bethelnorwalk.org/wp-content/uploads/2024/02/shabbat-shalom-blue.jpg
END:VEVENT
BEGIN:VEVENT
DTSTART;TZID=America/New_York:20270115T180000
DTEND;TZID=America/New_York:20270115T191500
DTSTAMP:20260422T224016
CREATED:20240202T140648Z
LAST-MODIFIED:20240923T183952Z
UID:10002603-1800036000-1800040500@bethelnorwalk.org
SUMMARY:Kabbalat Shabbat
DESCRIPTION:Join us every Friday evening in person or via Zoom at 6 pm for an uplifting\, spiritual end to your week. We incorporate music to make the service even more inspiring. (Please note\, the time & Zoom option are subject to change for special events.) \n 
URL:https://bethelnorwalk.org/event/kabbalat-shabbat/2027-01-15/
LOCATION:CT
CATEGORIES:Pray
ATTACH;FMTTYPE=image/jpeg:https://bethelnorwalk.org/wp-content/uploads/2024/02/Kabbalat-Shabbat.jpg
END:VEVENT
BEGIN:VEVENT
DTSTART;TZID=America/New_York:20270116T100000
DTEND;TZID=America/New_York:20270116T100000
DTSTAMP:20260422T224016
CREATED:20240202T143534Z
LAST-MODIFIED:20240626T193917Z
UID:10002865-1800093600-1800093600@bethelnorwalk.org
SUMMARY:Shabbat Services
DESCRIPTION:Weekly Shabbat services begin at 10:00 am (9:30 am when there is a B Mitzvah) in person and via our livestream feed.  Our services combine traditional and contemporary prayers. Rabbi Ita Paskind’s D’var Torah offers thought provoking and inspirational words.  We often spotlight guests and congregants to be our guest D’var Torah assuring different perspectives on Torah and “hot topics.”
URL:https://bethelnorwalk.org/event/shabbat-services/2027-01-16/
LOCATION:CT
CATEGORIES:Pray
ATTACH;FMTTYPE=image/jpeg:https://bethelnorwalk.org/wp-content/uploads/2024/02/shabbat-shalom-blue.jpg
END:VEVENT
BEGIN:VEVENT
DTSTART;TZID=America/New_York:20270122T180000
DTEND;TZID=America/New_York:20270122T191500
DTSTAMP:20260422T224016
CREATED:20240202T140648Z
LAST-MODIFIED:20240923T183952Z
UID:10002604-1800640800-1800645300@bethelnorwalk.org
SUMMARY:Kabbalat Shabbat
DESCRIPTION:Join us every Friday evening in person or via Zoom at 6 pm for an uplifting\, spiritual end to your week. We incorporate music to make the service even more inspiring. (Please note\, the time & Zoom option are subject to change for special events.) \n 
URL:https://bethelnorwalk.org/event/kabbalat-shabbat/2027-01-22/
LOCATION:CT
CATEGORIES:Pray
ATTACH;FMTTYPE=image/jpeg:https://bethelnorwalk.org/wp-content/uploads/2024/02/Kabbalat-Shabbat.jpg
END:VEVENT
BEGIN:VEVENT
DTSTART;TZID=America/New_York:20270123T100000
DTEND;TZID=America/New_York:20270123T100000
DTSTAMP:20260422T224016
CREATED:20240202T143534Z
LAST-MODIFIED:20240626T193917Z
UID:10002866-1800698400-1800698400@bethelnorwalk.org
SUMMARY:Shabbat Services
DESCRIPTION:Weekly Shabbat services begin at 10:00 am (9:30 am when there is a B Mitzvah) in person and via our livestream feed.  Our services combine traditional and contemporary prayers. Rabbi Ita Paskind’s D’var Torah offers thought provoking and inspirational words.  We often spotlight guests and congregants to be our guest D’var Torah assuring different perspectives on Torah and “hot topics.”
URL:https://bethelnorwalk.org/event/shabbat-services/2027-01-23/
LOCATION:CT
CATEGORIES:Pray
ATTACH;FMTTYPE=image/jpeg:https://bethelnorwalk.org/wp-content/uploads/2024/02/shabbat-shalom-blue.jpg
END:VEVENT
BEGIN:VEVENT
DTSTART;TZID=America/New_York:20270129T180000
DTEND;TZID=America/New_York:20270129T191500
DTSTAMP:20260422T224016
CREATED:20240202T140648Z
LAST-MODIFIED:20240923T183952Z
UID:10002605-1801245600-1801250100@bethelnorwalk.org
SUMMARY:Kabbalat Shabbat
DESCRIPTION:Join us every Friday evening in person or via Zoom at 6 pm for an uplifting\, spiritual end to your week. We incorporate music to make the service even more inspiring. (Please note\, the time & Zoom option are subject to change for special events.) \n 
URL:https://bethelnorwalk.org/event/kabbalat-shabbat/2027-01-29/
LOCATION:CT
CATEGORIES:Pray
ATTACH;FMTTYPE=image/jpeg:https://bethelnorwalk.org/wp-content/uploads/2024/02/Kabbalat-Shabbat.jpg
END:VEVENT
BEGIN:VEVENT
DTSTART;TZID=America/New_York:20270130T100000
DTEND;TZID=America/New_York:20270130T100000
DTSTAMP:20260422T224016
CREATED:20240202T143534Z
LAST-MODIFIED:20240626T193917Z
UID:10002867-1801303200-1801303200@bethelnorwalk.org
SUMMARY:Shabbat Services
DESCRIPTION:Weekly Shabbat services begin at 10:00 am (9:30 am when there is a B Mitzvah) in person and via our livestream feed.  Our services combine traditional and contemporary prayers. Rabbi Ita Paskind’s D’var Torah offers thought provoking and inspirational words.  We often spotlight guests and congregants to be our guest D’var Torah assuring different perspectives on Torah and “hot topics.”
URL:https://bethelnorwalk.org/event/shabbat-services/2027-01-30/
LOCATION:CT
CATEGORIES:Pray
ATTACH;FMTTYPE=image/jpeg:https://bethelnorwalk.org/wp-content/uploads/2024/02/shabbat-shalom-blue.jpg
END:VEVENT
BEGIN:VEVENT
DTSTART;TZID=America/New_York:20270205T180000
DTEND;TZID=America/New_York:20270205T191500
DTSTAMP:20260422T224016
CREATED:20240202T140648Z
LAST-MODIFIED:20240923T183952Z
UID:10002606-1801850400-1801854900@bethelnorwalk.org
SUMMARY:Kabbalat Shabbat
DESCRIPTION:Join us every Friday evening in person or via Zoom at 6 pm for an uplifting\, spiritual end to your week. We incorporate music to make the service even more inspiring. (Please note\, the time & Zoom option are subject to change for special events.) \n 
URL:https://bethelnorwalk.org/event/kabbalat-shabbat/2027-02-05/
LOCATION:CT
CATEGORIES:Pray
ATTACH;FMTTYPE=image/jpeg:https://bethelnorwalk.org/wp-content/uploads/2024/02/Kabbalat-Shabbat.jpg
END:VEVENT
BEGIN:VEVENT
DTSTART;TZID=America/New_York:20270206T100000
DTEND;TZID=America/New_York:20270206T100000
DTSTAMP:20260422T224016
CREATED:20240202T143534Z
LAST-MODIFIED:20240626T193917Z
UID:10002868-1801908000-1801908000@bethelnorwalk.org
SUMMARY:Shabbat Services
DESCRIPTION:Weekly Shabbat services begin at 10:00 am (9:30 am when there is a B Mitzvah) in person and via our livestream feed.  Our services combine traditional and contemporary prayers. Rabbi Ita Paskind’s D’var Torah offers thought provoking and inspirational words.  We often spotlight guests and congregants to be our guest D’var Torah assuring different perspectives on Torah and “hot topics.”
URL:https://bethelnorwalk.org/event/shabbat-services/2027-02-06/
LOCATION:CT
CATEGORIES:Pray
ATTACH;FMTTYPE=image/jpeg:https://bethelnorwalk.org/wp-content/uploads/2024/02/shabbat-shalom-blue.jpg
END:VEVENT
BEGIN:VEVENT
DTSTART;TZID=America/New_York:20270212T180000
DTEND;TZID=America/New_York:20270212T191500
DTSTAMP:20260422T224016
CREATED:20240202T140648Z
LAST-MODIFIED:20240923T183952Z
UID:10002607-1802455200-1802459700@bethelnorwalk.org
SUMMARY:Kabbalat Shabbat
DESCRIPTION:Join us every Friday evening in person or via Zoom at 6 pm for an uplifting\, spiritual end to your week. We incorporate music to make the service even more inspiring. (Please note\, the time & Zoom option are subject to change for special events.) \n 
URL:https://bethelnorwalk.org/event/kabbalat-shabbat/2027-02-12/
LOCATION:CT
CATEGORIES:Pray
ATTACH;FMTTYPE=image/jpeg:https://bethelnorwalk.org/wp-content/uploads/2024/02/Kabbalat-Shabbat.jpg
END:VEVENT
BEGIN:VEVENT
DTSTART;TZID=America/New_York:20270213T100000
DTEND;TZID=America/New_York:20270213T100000
DTSTAMP:20260422T224016
CREATED:20240202T143534Z
LAST-MODIFIED:20240626T193917Z
UID:10002869-1802512800-1802512800@bethelnorwalk.org
SUMMARY:Shabbat Services
DESCRIPTION:Weekly Shabbat services begin at 10:00 am (9:30 am when there is a B Mitzvah) in person and via our livestream feed.  Our services combine traditional and contemporary prayers. Rabbi Ita Paskind’s D’var Torah offers thought provoking and inspirational words.  We often spotlight guests and congregants to be our guest D’var Torah assuring different perspectives on Torah and “hot topics.”
URL:https://bethelnorwalk.org/event/shabbat-services/2027-02-13/
LOCATION:CT
CATEGORIES:Pray
ATTACH;FMTTYPE=image/jpeg:https://bethelnorwalk.org/wp-content/uploads/2024/02/shabbat-shalom-blue.jpg
END:VEVENT
BEGIN:VEVENT
DTSTART;TZID=America/New_York:20270219T180000
DTEND;TZID=America/New_York:20270219T191500
DTSTAMP:20260422T224016
CREATED:20240202T140648Z
LAST-MODIFIED:20240923T183952Z
UID:10002608-1803060000-1803064500@bethelnorwalk.org
SUMMARY:Kabbalat Shabbat
DESCRIPTION:Join us every Friday evening in person or via Zoom at 6 pm for an uplifting\, spiritual end to your week. We incorporate music to make the service even more inspiring. (Please note\, the time & Zoom option are subject to change for special events.) \n 
URL:https://bethelnorwalk.org/event/kabbalat-shabbat/2027-02-19/
LOCATION:CT
CATEGORIES:Pray
ATTACH;FMTTYPE=image/jpeg:https://bethelnorwalk.org/wp-content/uploads/2024/02/Kabbalat-Shabbat.jpg
END:VEVENT
BEGIN:VEVENT
DTSTART;TZID=America/New_York:20270220T100000
DTEND;TZID=America/New_York:20270220T100000
DTSTAMP:20260422T224016
CREATED:20240202T143534Z
LAST-MODIFIED:20240626T193917Z
UID:10002870-1803117600-1803117600@bethelnorwalk.org
SUMMARY:Shabbat Services
DESCRIPTION:Weekly Shabbat services begin at 10:00 am (9:30 am when there is a B Mitzvah) in person and via our livestream feed.  Our services combine traditional and contemporary prayers. Rabbi Ita Paskind’s D’var Torah offers thought provoking and inspirational words.  We often spotlight guests and congregants to be our guest D’var Torah assuring different perspectives on Torah and “hot topics.”
URL:https://bethelnorwalk.org/event/shabbat-services/2027-02-20/
LOCATION:CT
CATEGORIES:Pray
ATTACH;FMTTYPE=image/jpeg:https://bethelnorwalk.org/wp-content/uploads/2024/02/shabbat-shalom-blue.jpg
END:VEVENT
BEGIN:VEVENT
DTSTART;TZID=America/New_York:20270226T180000
DTEND;TZID=America/New_York:20270226T191500
DTSTAMP:20260422T224016
CREATED:20240202T140648Z
LAST-MODIFIED:20240923T183952Z
UID:10002609-1803664800-1803669300@bethelnorwalk.org
SUMMARY:Kabbalat Shabbat
DESCRIPTION:Join us every Friday evening in person or via Zoom at 6 pm for an uplifting\, spiritual end to your week. We incorporate music to make the service even more inspiring. (Please note\, the time & Zoom option are subject to change for special events.) \n 
URL:https://bethelnorwalk.org/event/kabbalat-shabbat/2027-02-26/
LOCATION:CT
CATEGORIES:Pray
ATTACH;FMTTYPE=image/jpeg:https://bethelnorwalk.org/wp-content/uploads/2024/02/Kabbalat-Shabbat.jpg
END:VEVENT
BEGIN:VEVENT
DTSTART;TZID=America/New_York:20270227T100000
DTEND;TZID=America/New_York:20270227T100000
DTSTAMP:20260422T224016
CREATED:20240202T143534Z
LAST-MODIFIED:20240626T193917Z
UID:10002871-1803722400-1803722400@bethelnorwalk.org
SUMMARY:Shabbat Services
DESCRIPTION:Weekly Shabbat services begin at 10:00 am (9:30 am when there is a B Mitzvah) in person and via our livestream feed.  Our services combine traditional and contemporary prayers. Rabbi Ita Paskind’s D’var Torah offers thought provoking and inspirational words.  We often spotlight guests and congregants to be our guest D’var Torah assuring different perspectives on Torah and “hot topics.”
URL:https://bethelnorwalk.org/event/shabbat-services/2027-02-27/
LOCATION:CT
CATEGORIES:Pray
ATTACH;FMTTYPE=image/jpeg:https://bethelnorwalk.org/wp-content/uploads/2024/02/shabbat-shalom-blue.jpg
END:VEVENT
BEGIN:VEVENT
DTSTART;TZID=America/New_York:20270305T180000
DTEND;TZID=America/New_York:20270305T191500
DTSTAMP:20260422T224016
CREATED:20240202T140648Z
LAST-MODIFIED:20240923T183952Z
UID:10002610-1804269600-1804274100@bethelnorwalk.org
SUMMARY:Kabbalat Shabbat
DESCRIPTION:Join us every Friday evening in person or via Zoom at 6 pm for an uplifting\, spiritual end to your week. We incorporate music to make the service even more inspiring. (Please note\, the time & Zoom option are subject to change for special events.) \n 
URL:https://bethelnorwalk.org/event/kabbalat-shabbat/2027-03-05/
LOCATION:CT
CATEGORIES:Pray
ATTACH;FMTTYPE=image/jpeg:https://bethelnorwalk.org/wp-content/uploads/2024/02/Kabbalat-Shabbat.jpg
END:VEVENT
BEGIN:VEVENT
DTSTART;TZID=America/New_York:20270306T100000
DTEND;TZID=America/New_York:20270306T100000
DTSTAMP:20260422T224016
CREATED:20240202T143534Z
LAST-MODIFIED:20240626T193917Z
UID:10002872-1804327200-1804327200@bethelnorwalk.org
SUMMARY:Shabbat Services
DESCRIPTION:Weekly Shabbat services begin at 10:00 am (9:30 am when there is a B Mitzvah) in person and via our livestream feed.  Our services combine traditional and contemporary prayers. Rabbi Ita Paskind’s D’var Torah offers thought provoking and inspirational words.  We often spotlight guests and congregants to be our guest D’var Torah assuring different perspectives on Torah and “hot topics.”
URL:https://bethelnorwalk.org/event/shabbat-services/2027-03-06/
LOCATION:CT
CATEGORIES:Pray
ATTACH;FMTTYPE=image/jpeg:https://bethelnorwalk.org/wp-content/uploads/2024/02/shabbat-shalom-blue.jpg
END:VEVENT
END:VCALENDAR