BEGIN:VCALENDAR
VERSION:2.0
PRODID:-//Congregation Beth El - ECPv6.15.17//NONSGML v1.0//EN
CALSCALE:GREGORIAN
METHOD:PUBLISH
X-WR-CALNAME:Congregation Beth El
X-ORIGINAL-URL:https://bethelnorwalk.org
X-WR-CALDESC:Events for Congregation Beth El
REFRESH-INTERVAL;VALUE=DURATION:PT1H
X-Robots-Tag:noindex
X-PUBLISHED-TTL:PT1H
BEGIN:VTIMEZONE
TZID:America/New_York
BEGIN:DAYLIGHT
TZOFFSETFROM:-0500
TZOFFSETTO:-0400
TZNAME:EDT
DTSTART:20250309T070000
END:DAYLIGHT
BEGIN:STANDARD
TZOFFSETFROM:-0400
TZOFFSETTO:-0500
TZNAME:EST
DTSTART:20251102T060000
END:STANDARD
BEGIN:DAYLIGHT
TZOFFSETFROM:-0500
TZOFFSETTO:-0400
TZNAME:EDT
DTSTART:20260308T070000
END:DAYLIGHT
BEGIN:STANDARD
TZOFFSETFROM:-0400
TZOFFSETTO:-0500
TZNAME:EST
DTSTART:20261101T060000
END:STANDARD
BEGIN:DAYLIGHT
TZOFFSETFROM:-0500
TZOFFSETTO:-0400
TZNAME:EDT
DTSTART:20270314T070000
END:DAYLIGHT
BEGIN:STANDARD
TZOFFSETFROM:-0400
TZOFFSETTO:-0500
TZNAME:EST
DTSTART:20271107T060000
END:STANDARD
END:VTIMEZONE
BEGIN:VEVENT
DTSTART;TZID=America/New_York:20260315T103000
DTEND;TZID=America/New_York:20260315T120000
DTSTAMP:20260421T195448
CREATED:20260213T024800Z
LAST-MODIFIED:20260310T160407Z
UID:10006397-1773570600-1773576000@bethelnorwalk.org
SUMMARY:Young Family Event
DESCRIPTION:We welcome young families to CBE for stories\, crafts and other activities. \nPlease RSVP here.
URL:https://bethelnorwalk.org/event/young-family-event/
LOCATION:Congregation Beth El Norwalk\, 109 East Ave\, Norwalk\, CT\, 06851\, United States
CATEGORIES:Family
ATTACH;FMTTYPE=image/png:https://bethelnorwalk.org/wp-content/uploads/2026/02/Our-Family-clip-art.png
END:VEVENT
BEGIN:VEVENT
DTSTART;TZID=America/New_York:20260321T103000
DTEND;TZID=America/New_York:20260321T120000
DTSTAMP:20260421T195448
CREATED:20260210T165131Z
LAST-MODIFIED:20260421T161750Z
UID:10006121-1774089000-1774094400@bethelnorwalk.org
SUMMARY:Tot Shabbat
DESCRIPTION:Tot Shabbat meets monthly on Saturday mornings and is open to children in preschool through first grade. The children learn about and celebrate Judaism\, Shabbat and the Jewish holidays throughout the year. Our monthly experiences include a special snack\, songs\, prayers\, and dancing. \nTot Shabbat will not meet in June 2026. \nClick here for the flyer.
URL:https://bethelnorwalk.org/event/tot-shabbat-5786-2/2026-03-21/
LOCATION:Beth El Norwalk\, 109 East Avenue\, Norwalk\, CT\, 06851\, United States
CATEGORIES:Family,Pray,Tot Shabbat,Youth
ATTACH;FMTTYPE=image/png:https://bethelnorwalk.org/wp-content/uploads/2024/09/Tot-Shabbat-2025-2026.png
END:VEVENT
END:VCALENDAR