BEGIN:VCALENDAR
VERSION:2.0
PRODID:-//Congregation Beth El - ECPv6.15.17//NONSGML v1.0//EN
CALSCALE:GREGORIAN
METHOD:PUBLISH
X-ORIGINAL-URL:https://bethelnorwalk.org
X-WR-CALDESC:Events for Congregation Beth El
REFRESH-INTERVAL;VALUE=DURATION:PT1H
X-Robots-Tag:noindex
X-PUBLISHED-TTL:PT1H
BEGIN:VTIMEZONE
TZID:America/New_York
BEGIN:DAYLIGHT
TZOFFSETFROM:-0500
TZOFFSETTO:-0400
TZNAME:EDT
DTSTART:20250309T070000
END:DAYLIGHT
BEGIN:STANDARD
TZOFFSETFROM:-0400
TZOFFSETTO:-0500
TZNAME:EST
DTSTART:20251102T060000
END:STANDARD
BEGIN:DAYLIGHT
TZOFFSETFROM:-0500
TZOFFSETTO:-0400
TZNAME:EDT
DTSTART:20260308T070000
END:DAYLIGHT
BEGIN:STANDARD
TZOFFSETFROM:-0400
TZOFFSETTO:-0500
TZNAME:EST
DTSTART:20261101T060000
END:STANDARD
BEGIN:DAYLIGHT
TZOFFSETFROM:-0500
TZOFFSETTO:-0400
TZNAME:EDT
DTSTART:20270314T070000
END:DAYLIGHT
BEGIN:STANDARD
TZOFFSETFROM:-0400
TZOFFSETTO:-0500
TZNAME:EST
DTSTART:20271107T060000
END:STANDARD
END:VTIMEZONE
BEGIN:VEVENT
DTSTART;TZID=America/New_York:20260131T103000
DTEND;TZID=America/New_York:20260131T120000
DTSTAMP:20260421T225901
CREATED:20250820T184119Z
LAST-MODIFIED:20260121T192550Z
UID:10006119-1769855400-1769860800@bethelnorwalk.org
SUMMARY:Tot Shabbat
DESCRIPTION:Tot Shabbat returns for another fun year at Congregation Beth El! We meet monthly on Saturday mornings and help our youngest friends learn about and celebrate Judaism\, Shabbat and the Jewish holidays throughout the year. Our monthly experiences include a special snack\, songs\, prayers\, and dancing. Tot Shabbat is open to children in preschool through first grade.
URL:https://bethelnorwalk.org/event/tot-shabbat-5786/
LOCATION:Beth El Norwalk\, 109 East Avenue\, Norwalk\, CT\, 06851\, United States
CATEGORIES:Family,Pray,Tot Shabbat,Youth
ATTACH;FMTTYPE=image/png:https://bethelnorwalk.org/wp-content/uploads/2024/09/Tot-Shabbat-2025-2026.png
END:VEVENT
END:VCALENDAR