BEGIN:VCALENDAR
VERSION:2.0
PRODID:-//Congregation Beth El - ECPv6.15.17//NONSGML v1.0//EN
CALSCALE:GREGORIAN
METHOD:PUBLISH
X-WR-CALNAME:Congregation Beth El
X-ORIGINAL-URL:https://bethelnorwalk.org
X-WR-CALDESC:Events for Congregation Beth El
REFRESH-INTERVAL;VALUE=DURATION:PT1H
X-Robots-Tag:noindex
X-PUBLISHED-TTL:PT1H
BEGIN:VTIMEZONE
TZID:America/New_York
BEGIN:DAYLIGHT
TZOFFSETFROM:-0500
TZOFFSETTO:-0400
TZNAME:EDT
DTSTART:20240310T070000
END:DAYLIGHT
BEGIN:STANDARD
TZOFFSETFROM:-0400
TZOFFSETTO:-0500
TZNAME:EST
DTSTART:20241103T060000
END:STANDARD
BEGIN:DAYLIGHT
TZOFFSETFROM:-0500
TZOFFSETTO:-0400
TZNAME:EDT
DTSTART:20250309T070000
END:DAYLIGHT
BEGIN:STANDARD
TZOFFSETFROM:-0400
TZOFFSETTO:-0500
TZNAME:EST
DTSTART:20251102T060000
END:STANDARD
BEGIN:DAYLIGHT
TZOFFSETFROM:-0500
TZOFFSETTO:-0400
TZNAME:EDT
DTSTART:20260308T070000
END:DAYLIGHT
BEGIN:STANDARD
TZOFFSETFROM:-0400
TZOFFSETTO:-0500
TZNAME:EST
DTSTART:20261101T060000
END:STANDARD
END:VTIMEZONE
BEGIN:VEVENT
DTSTART;TZID=America/New_York:20251010T180000
DTEND;TZID=America/New_York:20251010T200000
DTSTAMP:20260424T082936
CREATED:20250805T172059Z
LAST-MODIFIED:20250926T020952Z
UID:10006034-1760119200-1760126400@bethelnorwalk.org
SUMMARY:Sukkot Shabbat Under the Stars\, A Funny Thing Happened on the Way to the Sukkah!
DESCRIPTION:Join us Friday\, October 10 for Sukkot\, Shabbat Under the Stars! A Funny Thing Happened on the Way to the Sukkah! \nEnjoy a Holiday Harvest Meat Meal featuring delicious salads\, veggies\, chicken\, and more from our new caterer! \nRSVP is due by Friday\, October 3 at noon. Please RSVP here. \nIf you would like to take part in our evening Open Mic and tell a story about a funny thing that happened on the way to the sukkah*! (*Or holiday\, or family event); please submit here your storytelling “pitch” for a story up to 5 minutes long in your attendee section. Include the speaker name and 2-3 sentences at most to describe your story. Please note there will be children present.
URL:https://bethelnorwalk.org/event/sukkot-shabbat-under-the-stars/
LOCATION:Congregation Beth El Norwalk\, 109 East Ave\, Norwalk\, CT\, 06851\, United States
CATEGORIES:Family,Holiday,Pray,Shabbat Dinner
ATTACH;FMTTYPE=image/jpeg:https://bethelnorwalk.org/wp-content/uploads/2025/08/WEB-EDIT-SukkotFlierwithFeature_FINAL.jpg
END:VEVENT
BEGIN:VEVENT
DTSTART;TZID=America/New_York:20251011T103000
DTEND;TZID=America/New_York:20251011T120000
DTSTAMP:20260424T082936
CREATED:20250820T184328Z
LAST-MODIFIED:20251119T185732Z
UID:10006116-1760178600-1760184000@bethelnorwalk.org
SUMMARY:Tot Shabbat
DESCRIPTION:Tot Shabbat returns for another fun year at Congregation Beth El! We meet monthly on Saturday mornings and help our youngest friends learn about and celebrate Judaism\, Shabbat and the Jewish holidays throughout the year. Our monthly experiences include a special snack\, songs\, prayers\, and dancing. Tot Shabbat is open to children through 3rd grade. \nDecember 13\, January 31\, February 28\, March 21\, April 25\, May 16\, June 13
URL:https://bethelnorwalk.org/event/tot-shabbat-is-back-2/2025-10-11/
LOCATION:Congregation Beth El Norwalk\, 109 East Ave\, Norwalk\, CT\, 06851\, United States
CATEGORIES:Family,Tot Shabbat
ATTACH;FMTTYPE=image/png:https://bethelnorwalk.org/wp-content/uploads/2024/09/Tot-Shabbat-2025-2026.png
END:VEVENT
BEGIN:VEVENT
DTSTART;TZID=America/New_York:20251023T093000
DTEND;TZID=America/New_York:20251023T103000
DTSTAMP:20260424T082936
CREATED:20250818T170017Z
LAST-MODIFIED:20251030T221129Z
UID:10005340-1761211800-1761215400@bethelnorwalk.org
SUMMARY:Free Baby & Me Program
DESCRIPTION:A free program every Thursday that is open to all faiths with music\, stories\, free play and more.  Meet other caregivers with young children (birth to 2 years old) and help your child to begin socializing with others. Contact Amy for more information. Nitzan@congbethel.org. The program runs October – May.
URL:https://bethelnorwalk.org/event/free-baby-me-program-2/2025-10-23/
LOCATION:Congregation Beth El Norwalk\, 109 East Ave\, Norwalk\, CT\, 06851\, United States
CATEGORIES:Family
ATTACH;FMTTYPE=image/jpeg:https://bethelnorwalk.org/wp-content/uploads/2024/11/Baby-and-me-Nov2018_0660.jpg
END:VEVENT
END:VCALENDAR