BEGIN:VCALENDAR
VERSION:2.0
PRODID:-//Congregation Beth El - ECPv6.15.17//NONSGML v1.0//EN
CALSCALE:GREGORIAN
METHOD:PUBLISH
X-WR-CALNAME:Congregation Beth El
X-ORIGINAL-URL:https://bethelnorwalk.org
X-WR-CALDESC:Events for Congregation Beth El
REFRESH-INTERVAL;VALUE=DURATION:PT1H
X-Robots-Tag:noindex
X-PUBLISHED-TTL:PT1H
BEGIN:VTIMEZONE
TZID:America/New_York
BEGIN:DAYLIGHT
TZOFFSETFROM:-0500
TZOFFSETTO:-0400
TZNAME:EDT
DTSTART:20250309T070000
END:DAYLIGHT
BEGIN:STANDARD
TZOFFSETFROM:-0400
TZOFFSETTO:-0500
TZNAME:EST
DTSTART:20251102T060000
END:STANDARD
BEGIN:DAYLIGHT
TZOFFSETFROM:-0500
TZOFFSETTO:-0400
TZNAME:EDT
DTSTART:20260308T070000
END:DAYLIGHT
BEGIN:STANDARD
TZOFFSETFROM:-0400
TZOFFSETTO:-0500
TZNAME:EST
DTSTART:20261101T060000
END:STANDARD
BEGIN:DAYLIGHT
TZOFFSETFROM:-0500
TZOFFSETTO:-0400
TZNAME:EDT
DTSTART:20270314T070000
END:DAYLIGHT
BEGIN:STANDARD
TZOFFSETFROM:-0400
TZOFFSETTO:-0500
TZNAME:EST
DTSTART:20271107T060000
END:STANDARD
END:VTIMEZONE
BEGIN:VEVENT
DTSTART;TZID=America/New_York:20260326T183000
DTEND;TZID=America/New_York:20260326T210000
DTSTAMP:20260423T041019
CREATED:20260211T174235Z
LAST-MODIFIED:20260224T205658Z
UID:10006393-1774549800-1774558800@bethelnorwalk.org
SUMMARY:Beth Elles Passover-Themed Cooking Class with Ronnie Fein
DESCRIPTION:Come and enjoy a Passover-themed cooking class of vegetarian treats with cookbook author\, food journalist\, and cooking teacher\, Ronnie Fein. \nPlease RSVP HERE. \nFein calls herself a teacher at heart and makes sure everyone from beginners to experienced cooks can follow her recipes\, understand why they work and what ingredients to substitute\, if necessary.
URL:https://bethelnorwalk.org/event/10095/
LOCATION:Congregation Beth El Norwalk\, 109 East Ave\, Norwalk\, CT\, 06851\, United States
CATEGORIES:Beth Elles
ATTACH;FMTTYPE=image/jpeg:https://bethelnorwalk.org/wp-content/uploads/2024/04/passover-seder-2024-1100.jpg
END:VEVENT
END:VCALENDAR